BEGIN:VCALENDAR
VERSION:2.0
PRODID:spatie/icalendar-generator
DESCRIPTION:Events from Fox Lake Hills Property Owners Association
X-WR-CALDESC:Events from Fox Lake Hills Property Owners Association
REFRESH-INTERVAL;VALUE=DURATION:PT1440M
X-PUBLISHED-TTL:PT1440M
BEGIN:VTIMEZONE
TZID:America/Chicago
BEGIN:STANDARD
DTSTART:20241103T020000Z
TZOFFSETFROM:-0500
TZOFFSETTO:-0600
END:STANDARD
BEGIN:DAYLIGHT
DTSTART:20250309T020000Z
TZOFFSETFROM:-0600
TZOFFSETTO:-0500
END:DAYLIGHT
END:VTIMEZONE
BEGIN:VTIMEZONE
TZID:UTC
BEGIN:STANDARD
DTSTART:20250728T193109Z
TZOFFSETFROM:+0000
TZOFFSETTO:+0000
END:STANDARD
END:VTIMEZONE
BEGIN:VEVENT
UID:125-74
DTSTAMP:20260424T193109Z
SUMMARY:FLHPOA Soup-er Bowl Cook-Off
LOCATION:Lake Villa Township Community Center 37850 N. Rte. 59  Lake Villa 
 IL 60046
ORGANIZER;CN=foxlakehills:MAILTO:kerrycresham@gmail.com
DTSTART;TZID=America/Chicago:20250208T160000
DTEND;TZID=America/Chicago:20250208T190000
X-ALT-DESC;FMTTYPE=TEXT/HTML:Come hungry for the FLHPOA Soup-er Bowl Cook-O
 ff!! Whip up a batch of your best homemade soup for a chance to take home 
 the trophy! Making soup not your thing? That’s okay! Still join in the f
 un to mingle with neighbors\, taste some delicious soups\, and vote for yo
 ur favorites! Prizes will be awarded to&amp;hellip\;
CATEGORIES:Social Event
URL;VALUE=URI:https://foxlakehills.org/mc-events/flhpoa-soup-er-bowl-cook-o
 ff/
METHOD:PUBLISH
END:VEVENT
END:VCALENDAR