BEGIN:VCALENDAR
VERSION:2.0
PRODID:spatie/icalendar-generator
DESCRIPTION:Events from Fox Lake Hills Property Owners Association
X-WR-CALDESC:Events from Fox Lake Hills Property Owners Association
REFRESH-INTERVAL;VALUE=DURATION:PT1440M
X-PUBLISHED-TTL:PT1440M
BEGIN:VTIMEZONE
TZID:America/Chicago
BEGIN:DAYLIGHT
DTSTART:20250309T020000Z
TZOFFSETFROM:-0600
TZOFFSETTO:-0500
END:DAYLIGHT
BEGIN:STANDARD
DTSTART:20251102T020000Z
TZOFFSETFROM:-0500
TZOFFSETTO:-0600
END:STANDARD
END:VTIMEZONE
BEGIN:VTIMEZONE
TZID:UTC
BEGIN:STANDARD
DTSTART:20250729T032316Z
TZOFFSETFROM:+0000
TZOFFSETTO:+0000
END:STANDARD
END:VTIMEZONE
BEGIN:VEVENT
UID:138-84
DTSTAMP:20260425T032316Z
SUMMARY:FLHPOA Cardboard Boat Races
LOCATION:Bayview Park 37070 N Lake Shore Dr  Lake Villa IL 60046
ORGANIZER;CN=foxlakehills:MAILTO:kerrycresham@gmail.com
DTSTART;TZID=America/Chicago:20250802T150000
DTEND;TZID=America/Chicago:20250802T190000
X-ALT-DESC;FMTTYPE=TEXT/HTML:We are planning a cardboard boat race as part 
 of the Summer Beach Bash. Please see THIS FLYER for all details! Race Day 
 Schedule Check-in / Registration: 3–4pm Boat Judging: 4–4:30pm Races B
 egin: 5pm
CATEGORIES:Social Event
URL;VALUE=URI:https://foxlakehills.org/mc-events/flhpoa-cardboard-boat-race
 s/
METHOD:PUBLISH
END:VEVENT
END:VCALENDAR