BEGIN:VCALENDAR
VERSION:2.0
PRODID:spatie/icalendar-generator
DESCRIPTION:Events from Fox Lake Hills Property Owners Association
X-WR-CALDESC:Events from Fox Lake Hills Property Owners Association
REFRESH-INTERVAL;VALUE=DURATION:PT1440M
X-PUBLISHED-TTL:PT1440M
BEGIN:VTIMEZONE
TZID:America/Chicago
BEGIN:STANDARD
DTSTART:20251102T020000Z
TZOFFSETFROM:-0500
TZOFFSETTO:-0600
END:STANDARD
BEGIN:DAYLIGHT
DTSTART:20260308T020000Z
TZOFFSETFROM:-0600
TZOFFSETTO:-0500
END:DAYLIGHT
BEGIN:STANDARD
DTSTART:20261101T020000Z
TZOFFSETFROM:-0500
TZOFFSETTO:-0600
END:STANDARD
END:VTIMEZONE
BEGIN:VTIMEZONE
TZID:UTC
BEGIN:STANDARD
DTSTART:20250729T032103Z
TZOFFSETFROM:+0000
TZOFFSETTO:+0000
END:STANDARD
END:VTIMEZONE
BEGIN:VEVENT
UID:157-80
DTSTAMP:20260425T032103Z
SUMMARY:FLHPOA Fishing Derby
LOCATION:Bayview Harbor 37070 N Lake Shore Dr  Lake Villa IL 60046
ORGANIZER;CN=foxlakehills:MAILTO:kerrycresham@gmail.com
DTSTART;TZID=America/Chicago:20260620T090000
DTEND;TZID=America/Chicago:20260620T130000
X-ALT-DESC;FMTTYPE=TEXT/HTML:One fish\, Two fish\, Red fish\, Blue fish… 
 Join us for our 3rd annual Fishing Derby! Bring your pole and fishing gear
 – we’ll provide the bait. There will be prizes for kids and adults inc
 luding awards for the biggest fish\, smallest fish\, most fish caught\, an
 d most unusual catch. There are no entry fees. This&amp;hellip\;
CATEGORIES:Social Event
URL;VALUE=URI:https://foxlakehills.org/mc-events/flhpoa-fishing-derby-2/
METHOD:PUBLISH
END:VEVENT
END:VCALENDAR