BEGIN:VCALENDAR
VERSION:2.0
PRODID:spatie/icalendar-generator
DESCRIPTION:Events from Fox Lake Hills Property Owners Association
X-WR-CALDESC:Events from Fox Lake Hills Property Owners Association
REFRESH-INTERVAL;VALUE=DURATION:PT1440M
X-PUBLISHED-TTL:PT1440M
BEGIN:VTIMEZONE
TZID:America/Chicago
BEGIN:STANDARD
DTSTART:20251102T020000Z
TZOFFSETFROM:-0500
TZOFFSETTO:-0600
END:STANDARD
BEGIN:DAYLIGHT
DTSTART:20260308T020000Z
TZOFFSETFROM:-0600
TZOFFSETTO:-0500
END:DAYLIGHT
BEGIN:STANDARD
DTSTART:20261101T020000Z
TZOFFSETFROM:-0500
TZOFFSETTO:-0600
END:STANDARD
END:VTIMEZONE
BEGIN:VTIMEZONE
TZID:UTC
BEGIN:STANDARD
DTSTART:20250728T155856Z
TZOFFSETFROM:+0000
TZOFFSETTO:+0000
END:STANDARD
END:VTIMEZONE
BEGIN:VEVENT
UID:160-77
DTSTAMP:20260424T155856Z
SUMMARY:FLHPOA Spring Park Cleanup
LOCATION:Bayview Park 37070 N Lake Shore Dr  Lake Villa IL 60046
ORGANIZER;CN=foxlakehills:MAILTO:kerrycresham@gmail.com
DTSTART;TZID=America/Chicago:20260502T090000
DTEND;TZID=America/Chicago:20260502T110000
X-ALT-DESC;FMTTYPE=TEXT/HTML:Spring has sprung! It’s time to get our park
 s ready for warmer\, sunnier days. We need your help to clear away the win
 ter debris and enjoy some much-needed fresh air after being cooped up all 
 season! Please bring any lawn tools you may have (e.g.\, rakes\, shovels\,
  shears\, wheelbarrows) to help us get this project&amp;hellip\;
CATEGORIES:Volunteer Event
URL;VALUE=URI:https://foxlakehills.org/mc-events/flhpoa-spring-park-cleanup
 -2/
METHOD:PUBLISH
END:VEVENT
END:VCALENDAR