BEGIN:VCALENDAR
VERSION:2.0
PRODID:spatie/icalendar-generator
DESCRIPTION:Events from Fox Lake Hills Property Owners Association
X-WR-CALDESC:Events from Fox Lake Hills Property Owners Association
REFRESH-INTERVAL;VALUE=DURATION:PT1440M
X-PUBLISHED-TTL:PT1440M
BEGIN:VTIMEZONE
TZID:America/Chicago
BEGIN:DAYLIGHT
DTSTART:20240310T020000Z
TZOFFSETFROM:-0600
TZOFFSETTO:-0500
END:DAYLIGHT
BEGIN:STANDARD
DTSTART:20241103T020000Z
TZOFFSETFROM:-0500
TZOFFSETTO:-0600
END:STANDARD
BEGIN:DAYLIGHT
DTSTART:20250309T020000Z
TZOFFSETFROM:-0600
TZOFFSETTO:-0500
END:DAYLIGHT
END:VTIMEZONE
BEGIN:VTIMEZONE
TZID:UTC
BEGIN:STANDARD
DTSTART:20250728T210557Z
TZOFFSETFROM:+0000
TZOFFSETTO:+0000
END:STANDARD
END:VTIMEZONE
BEGIN:VEVENT
UID:173-53
DTSTAMP:20260424T210557Z
SUMMARY:Halloween Trick-or-Treating
LOCATION:
ORGANIZER;CN=foxlakehills:MAILTO:kerrycresham@gmail.com
RRULE:FREQ=YEARLY;BYMONTH=10;BYDAY=31;UNTIL=20271231T000000Z
DTSTART;TZID=America/Chicago:20241031T160000
DTEND;TZID=America/Chicago:20241031T190000
X-ALT-DESC;FMTTYPE=TEXT/HTML:Fox Lake Hills follows the same trick-or-treat
  hours as the Village of Lake Villa. Please watch their socials for update
 s. HAVE FUN and BE SAFE!
CATEGORIES:Holiday
URL;VALUE=URI:https://foxlakehills.org/mc-events/halloween-trick-or-treatin
 g/?mc_id=173
METHOD:PUBLISH
END:VEVENT
END:VCALENDAR