BEGIN:VCALENDAR
VERSION:2.0
PRODID:spatie/icalendar-generator
DESCRIPTION:Events from Fox Lake Hills Property Owners Association
X-WR-CALDESC:Events from Fox Lake Hills Property Owners Association
REFRESH-INTERVAL;VALUE=DURATION:PT1440M
X-PUBLISHED-TTL:PT1440M
BEGIN:VTIMEZONE
TZID:America/Chicago
BEGIN:STANDARD
DTSTART:20241103T020000Z
TZOFFSETFROM:-0500
TZOFFSETTO:-0600
END:STANDARD
BEGIN:DAYLIGHT
DTSTART:20250309T020000Z
TZOFFSETFROM:-0600
TZOFFSETTO:-0500
END:DAYLIGHT
END:VTIMEZONE
BEGIN:VTIMEZONE
TZID:UTC
BEGIN:STANDARD
DTSTART:20250728T155553Z
TZOFFSETFROM:+0000
TZOFFSETTO:+0000
END:STANDARD
END:VTIMEZONE
BEGIN:VEVENT
UID:178-45
DTSTAMP:20260424T155553Z
SUMMARY:St. Patrick's Day
LOCATION:
ORGANIZER;CN=foxlakehills:MAILTO:kerrycresham@gmail.com
RRULE:FREQ=YEARLY;BYMONTH=03;BYDAY=17;UNTIL=20271231T000000Z
DTSTART;TZID=America/Chicago;VALUE=DATE:20250317
DTEND;TZID=America/Chicago;VALUE=DATE:20250318
X-ALT-DESC;FMTTYPE=TEXT/HTML:
CATEGORIES:Holiday
URL;VALUE=URI:https://foxlakehills.org/mc-events/st-patricks-day/?mc_id=178
METHOD:PUBLISH
END:VEVENT
END:VCALENDAR