BEGIN:VCALENDAR
VERSION:2.0
PRODID:spatie/icalendar-generator
DESCRIPTION:Events from Fox Lake Hills Property Owners Association
X-WR-CALDESC:Events from Fox Lake Hills Property Owners Association
REFRESH-INTERVAL;VALUE=DURATION:PT1440M
X-PUBLISHED-TTL:PT1440M
BEGIN:VTIMEZONE
TZID:America/Chicago
BEGIN:STANDARD
DTSTART:20231105T020000Z
TZOFFSETFROM:-0500
TZOFFSETTO:-0600
END:STANDARD
BEGIN:DAYLIGHT
DTSTART:20240310T020000Z
TZOFFSETFROM:-0600
TZOFFSETTO:-0500
END:DAYLIGHT
BEGIN:STANDARD
DTSTART:20241103T020000Z
TZOFFSETFROM:-0500
TZOFFSETTO:-0600
END:STANDARD
END:VTIMEZONE
BEGIN:VTIMEZONE
TZID:UTC
BEGIN:STANDARD
DTSTART:20250728T213342Z
TZOFFSETFROM:+0000
TZOFFSETTO:+0000
END:STANDARD
END:VTIMEZONE
BEGIN:VEVENT
UID:205-29
DTSTAMP:20260424T213342Z
SUMMARY:Juneteenth
LOCATION:
ORGANIZER;CN=foxlakehills:MAILTO:kerrycresham@gmail.com
RRULE:FREQ=YEARLY;BYMONTH=06;BYDAY=19;UNTIL=20271231T000000Z
DTSTART;TZID=America/Chicago;VALUE=DATE:20240619
DTEND;TZID=America/Chicago;VALUE=DATE:20240620
X-ALT-DESC;FMTTYPE=TEXT/HTML:
CATEGORIES:Holiday
URL;VALUE=URI:https://foxlakehills.org/mc-events/juneteenth/?mc_id=205
METHOD:PUBLISH
END:VEVENT
END:VCALENDAR