BEGIN:VCALENDAR
VERSION:2.0
PRODID:spatie/icalendar-generator
DESCRIPTION:Events from Fox Lake Hills Property Owners Association
X-WR-CALDESC:Events from Fox Lake Hills Property Owners Association
REFRESH-INTERVAL;VALUE=DURATION:PT1440M
X-PUBLISHED-TTL:PT1440M
BEGIN:VTIMEZONE
TZID:America/Chicago
BEGIN:DAYLIGHT
DTSTART:20250309T020000Z
TZOFFSETFROM:-0600
TZOFFSETTO:-0500
END:DAYLIGHT
BEGIN:STANDARD
DTSTART:20251102T020000Z
TZOFFSETFROM:-0500
TZOFFSETTO:-0600
END:STANDARD
BEGIN:DAYLIGHT
DTSTART:20260308T020000Z
TZOFFSETFROM:-0600
TZOFFSETTO:-0500
END:DAYLIGHT
END:VTIMEZONE
BEGIN:VTIMEZONE
TZID:UTC
BEGIN:STANDARD
DTSTART:20250728T223526Z
TZOFFSETFROM:+0000
TZOFFSETTO:+0000
END:STANDARD
END:VTIMEZONE
BEGIN:VEVENT
UID:244-21
DTSTAMP:20260424T223526Z
SUMMARY:FLHPOA Monthly Meeting
LOCATION:Lake Villa Township Community Center 37850 N. Rte. 59  Lake Villa 
 IL 60046
ORGANIZER;CN=foxlakehills:MAILTO:kerrycresham@gmail.com
RRULE:FREQ=MONTHLY;BYDAY=3WE;UNTIL=20260831T000000Z
DTSTART;TZID=America/Chicago:20251015T190000
DTEND;TZID=America/Chicago:20251015T200000
X-ALT-DESC;FMTTYPE=TEXT/HTML:All residents are encouraged to attend our mon
 thly association meetings!
CATEGORIES:FLHPOA Meeting
URL;VALUE=URI:https://foxlakehills.org/mc-events/flhpoa-monthly-meeting-4/?
 mc_id=244
METHOD:PUBLISH
END:VEVENT
END:VCALENDAR