BEGIN:VCALENDAR
VERSION:2.0
PRODID:spatie/icalendar-generator
DESCRIPTION:Events from Fox Lake Hills Property Owners Association
X-WR-CALDESC:Events from Fox Lake Hills Property Owners Association
REFRESH-INTERVAL;VALUE=DURATION:PT1440M
X-PUBLISHED-TTL:PT1440M
BEGIN:VTIMEZONE
TZID:America/Chicago
BEGIN:STANDARD
DTSTART:20251102T020000Z
TZOFFSETFROM:-0500
TZOFFSETTO:-0600
END:STANDARD
BEGIN:DAYLIGHT
DTSTART:20260308T020000Z
TZOFFSETFROM:-0600
TZOFFSETTO:-0500
END:DAYLIGHT
BEGIN:STANDARD
DTSTART:20261101T020000Z
TZOFFSETFROM:-0500
TZOFFSETTO:-0600
END:STANDARD
END:VTIMEZONE
BEGIN:VTIMEZONE
TZID:UTC
BEGIN:STANDARD
DTSTART:20250728T210558Z
TZOFFSETFROM:+0000
TZOFFSETTO:+0000
END:STANDARD
END:VTIMEZONE
BEGIN:VEVENT
UID:256-69
DTSTAMP:20260424T210558Z
SUMMARY:FLHPOA Pickleball Tournament
LOCATION:Bayview Park 37070 N Lake Shore Dr  Lake Villa IL 60046
ORGANIZER;CN=foxlakehills:MAILTO:kerrycresham@gmail.com
DTSTART;TZID=America/Chicago:20260523T130000
DTEND;TZID=America/Chicago:20260523T160000
X-ALT-DESC;FMTTYPE=TEXT/HTML:Grab your paddles and come on down to our neig
 hborhood pickleball court to compete for the neighborhood title!! This wil
 l be a pre-registration event\, so we have time to structure the brackets.
  More information will be shared as we near the event. Keep calm and dink 
 on!
CATEGORIES:Social Event
URL;VALUE=URI:https://foxlakehills.org/mc-events/flhpoa-pickleball-tourname
 nt/
METHOD:PUBLISH
END:VEVENT
END:VCALENDAR