BEGIN:VCALENDAR
VERSION:2.0
PRODID:spatie/icalendar-generator
DESCRIPTION:Events from Fox Lake Hills Property Owners Association
X-WR-CALDESC:Events from Fox Lake Hills Property Owners Association
REFRESH-INTERVAL;VALUE=DURATION:PT1440M
X-PUBLISHED-TTL:PT1440M
BEGIN:VTIMEZONE
TZID:America/Chicago
BEGIN:STANDARD
DTSTART:20241103T020000Z
TZOFFSETFROM:-0500
TZOFFSETTO:-0600
END:STANDARD
BEGIN:DAYLIGHT
DTSTART:20250309T020000Z
TZOFFSETFROM:-0600
TZOFFSETTO:-0500
END:DAYLIGHT
BEGIN:STANDARD
DTSTART:20251102T020000Z
TZOFFSETFROM:-0500
TZOFFSETTO:-0600
END:STANDARD
END:VTIMEZONE
BEGIN:VTIMEZONE
TZID:UTC
BEGIN:STANDARD
DTSTART:20250728T193218Z
TZOFFSETFROM:+0000
TZOFFSETTO:+0000
END:STANDARD
END:VTIMEZONE
BEGIN:VEVENT
UID:134-82
DTSTAMP:20260424T193218Z
SUMMARY:FLHPOA Special Meeting
LOCATION:Lake Villa Township Community Center 37850 N. Rte. 59  Lake Villa 
 IL 60046
ORGANIZER;CN=foxlakehills:MAILTO:kerrycresham@gmail.com
DTSTART;TZID=America/Chicago:20250521T190000
DTEND;TZID=America/Chicago:20250521T200000
X-ALT-DESC;FMTTYPE=TEXT/HTML:The FLHPOA bylaws have been updated\, and now 
 we need your vote to ratify the changes. Key revisions include: • Shifti
 ng the fiscal year • Updating late fee policies • Clarifying the conse
 quences for disruptive behavior or bylaw violations You can read the revis
 ed bylaws HERE. Attend and be entered into a raffle! Ten lucky&amp;hellip\;
CATEGORIES:FLHPOA Meeting
URL;VALUE=URI:https://foxlakehills.org/mc-events/flhpoa-special-meeting/
METHOD:PUBLISH
END:VEVENT
END:VCALENDAR