BEGIN:VCALENDAR
VERSION:2.0
PRODID:spatie/icalendar-generator
DESCRIPTION:Events from Fox Lake Hills Property Owners Association
X-WR-CALDESC:Events from Fox Lake Hills Property Owners Association
REFRESH-INTERVAL;VALUE=DURATION:PT1440M
X-PUBLISHED-TTL:PT1440M
BEGIN:VTIMEZONE
TZID:America/Chicago
BEGIN:DAYLIGHT
DTSTART:20250309T020000Z
TZOFFSETFROM:-0600
TZOFFSETTO:-0500
END:DAYLIGHT
BEGIN:STANDARD
DTSTART:20251102T020000Z
TZOFFSETFROM:-0500
TZOFFSETTO:-0600
END:STANDARD
END:VTIMEZONE
BEGIN:VTIMEZONE
TZID:UTC
BEGIN:STANDARD
DTSTART:20250729T015601Z
TZOFFSETFROM:+0000
TZOFFSETTO:+0000
END:STANDARD
END:VTIMEZONE
BEGIN:VEVENT
UID:137-83
DTSTAMP:20260425T015601Z
SUMMARY:FLHPOA Summer Beach Bash
LOCATION:Bayview Park 37070 N Lake Shore Dr  Lake Villa IL 60046
ORGANIZER;CN=foxlakehills:MAILTO:kerrycresham@gmail.com
DTSTART;TZID=America/Chicago:20250802T150000
DTEND;TZID=America/Chicago:20250802T190000
X-ALT-DESC;FMTTYPE=TEXT/HTML:Bring your coolers\, chairs\, and your best su
 mmer vibes! Join us for a fun afternoon in the park where neighbors become
  friends. Enjoy live music by The Three Beards\, delicious food\, sweet tr
 eats from the ice cream stand\, and lots of fun in the sun. Don't forget y
 our swimsuits– the beach will be open for&amp;hellip\;
CATEGORIES:Social Event
URL;VALUE=URI:https://foxlakehills.org/mc-events/flhpoa-summer-beach-bash-3
 /
METHOD:PUBLISH
END:VEVENT
END:VCALENDAR