BEGIN:VCALENDAR
VERSION:2.0
PRODID:spatie/icalendar-generator
DESCRIPTION:Events from Fox Lake Hills Property Owners Association
X-WR-CALDESC:Events from Fox Lake Hills Property Owners Association
REFRESH-INTERVAL;VALUE=DURATION:PT1440M
X-PUBLISHED-TTL:PT1440M
BEGIN:VTIMEZONE
TZID:America/Chicago
BEGIN:STANDARD
DTSTART:20251102T020000Z
TZOFFSETFROM:-0500
TZOFFSETTO:-0600
END:STANDARD
BEGIN:DAYLIGHT
DTSTART:20260308T020000Z
TZOFFSETFROM:-0600
TZOFFSETTO:-0500
END:DAYLIGHT
END:VTIMEZONE
BEGIN:VTIMEZONE
TZID:UTC
BEGIN:STANDARD
DTSTART:20250728T161621Z
TZOFFSETFROM:+0000
TZOFFSETTO:+0000
END:STANDARD
END:VTIMEZONE
BEGIN:VEVENT
UID:250-93
DTSTAMP:20260424T161621Z
SUMMARY:FLHPOA Monthly Meeting
LOCATION:Lake Villa Township building – Lower Level Classroom A 37908 N F
 airfield Rd  Lake Villa IL 60046
ORGANIZER;CN=foxlakehills:MAILTO:kerrycresham@gmail.com
DTSTART;TZID=America/Chicago:20260415T190000
DTEND;TZID=America/Chicago:20260415T200000
X-ALT-DESC;FMTTYPE=TEXT/HTML:All residents are encouraged to attend our mon
 thly association meetings!
CATEGORIES:FLHPOA Meeting
URL;VALUE=URI:https://foxlakehills.org/mc-events/flhpoa-monthly-meeting-6/
METHOD:PUBLISH
END:VEVENT
END:VCALENDAR